BEGIN:VCALENDAR
PRODID:-//Pixl8//Eventfolio//EN
VERSION:2.0
X-WR-TIMEZONE:Europe/London
CALSCALE:GREGORIAN
METHOD:PUBLISH
CLASS:PUBLIC
BEGIN:VTIMEZONE
TZID:Europe/London
LAST-MODIFIED:20260306T231828Z
TZURL:https://www.tzurl.org/zoneinfo-outlook/Europe/London
X-LIC-LOCATION:Europe/London
BEGIN:DAYLIGHT
TZNAME:BST
TZOFFSETFROM:+0000
TZOFFSETTO:+0100
DTSTART:19700329T010000
RRULE:FREQ=YEARLY;BYMONTH=3;BYDAY=-1SU
END:DAYLIGHT
BEGIN:STANDARD
TZNAME:GMT
TZOFFSETFROM:+0100
TZOFFSETTO:+0000
DTSTART:19701025T020000
RRULE:FREQ=YEARLY;BYMONTH=10;BYDAY=-1SU
END:STANDARD
END:VTIMEZONE
BEGIN:VEVENT
DTSTART;TZID=Europe/London:20250327T170000
DTEND;TZID=Europe/London:20250327T180000
DTSTAMP:20260426T002858Z
UID:{360BD99B-CD73-4ECD-9CD4ED29AD102972}
LOCATION:
SUMMARY:Writing an Outdoor Education Curriculum – how to focus your outdoor Programmes - IOL Spring Webinar
DESCRIPTION:Aimed at those who run Outdoor Education programmes within schools or other organisations where students or participants have regular and extended contact with the outdoors whether that is just once a year or more regularly.\n
 \n
 Event details: https://www.outdoor-learning.org/news-events/ems-event-calendar/writing-oe-curriculum-focus-your-outdoor-programmes.html
PRIORITY:1
END:VEVENT
END:VCALENDAR