BEGIN:VCALENDAR
PRODID:-//Pixl8//Eventfolio//EN
VERSION:2.0
X-WR-TIMEZONE:Europe/London
CALSCALE:GREGORIAN
METHOD:PUBLISH
CLASS:PUBLIC
BEGIN:VTIMEZONE
TZID:Europe/London
LAST-MODIFIED:20260306T231828Z
TZURL:https://www.tzurl.org/zoneinfo-outlook/Europe/London
X-LIC-LOCATION:Europe/London
BEGIN:DAYLIGHT
TZNAME:BST
TZOFFSETFROM:+0000
TZOFFSETTO:+0100
DTSTART:19700329T010000
RRULE:FREQ=YEARLY;BYMONTH=3;BYDAY=-1SU
END:DAYLIGHT
BEGIN:STANDARD
TZNAME:GMT
TZOFFSETFROM:+0100
TZOFFSETTO:+0000
DTSTART:19701025T020000
RRULE:FREQ=YEARLY;BYMONTH=10;BYDAY=-1SU
END:STANDARD
END:VTIMEZONE
BEGIN:VEVENT
DTSTART;TZID=Europe/London:20250127T190000
DTEND;TZID=Europe/London:20250127T194500
DTSTAMP:20260425T231916Z
UID:{052D1E5C-E1E4-49C3-96258DCFEF9AD3DA}
LOCATION:
SUMMARY:Making the most of your IOL membership - 27th January
DESCRIPTION:This 45 minute, webinar gives you an introduction to the charity that champions outdoor learning and supports those that work within this sector. The webinar will help show you how to access, manage and make the most of membership benefits.\n
 \n
 Event details: https://www.outdoor-learning.org/news-events/ems-event-calendar/making-the-most-of-your-iol-membership-27th-january.html
PRIORITY:1
END:VEVENT
END:VCALENDAR