BEGIN:VCALENDAR
PRODID:-//Pixl8//Eventfolio//EN
VERSION:2.0
X-WR-TIMEZONE:Europe/London
CALSCALE:GREGORIAN
METHOD:PUBLISH
CLASS:PUBLIC
BEGIN:VTIMEZONE
TZID:Europe/London
LAST-MODIFIED:20260306T231828Z
TZURL:https://www.tzurl.org/zoneinfo-outlook/Europe/London
X-LIC-LOCATION:Europe/London
BEGIN:DAYLIGHT
TZNAME:BST
TZOFFSETFROM:+0000
TZOFFSETTO:+0100
DTSTART:19700329T010000
RRULE:FREQ=YEARLY;BYMONTH=3;BYDAY=-1SU
END:DAYLIGHT
BEGIN:STANDARD
TZNAME:GMT
TZOFFSETFROM:+0100
TZOFFSETTO:+0000
DTSTART:19701025T020000
RRULE:FREQ=YEARLY;BYMONTH=10;BYDAY=-1SU
END:STANDARD
END:VTIMEZONE
BEGIN:VEVENT
DTSTART;TZID=Europe/London:20240917T130000
DTEND;TZID=Europe/London:20240917T133000
DTSTAMP:20260419T145140Z
UID:{FB23D27F-1E6D-4363-87C457CC9D95E69B}
LOCATION:
SUMMARY:Making the most of your IOL membership - 17 Sept 2024
DESCRIPTION:This short, 30 minute, webinar gives you an introduction to the charity that champions outdoor learning and supports those that work within this sector. The webinar will help show you how to access, manage and make the most of membership benefits.\n
 \n
 Event details: https://www.outdoor-learning.org/news-events/ems-event-calendar/making-the-most-of-your-iol-membership-17-sept-2024.html
PRIORITY:1
END:VEVENT
END:VCALENDAR