BEGIN:VCALENDAR
PRODID:-//Pixl8//Eventfolio//EN
VERSION:2.0
X-WR-TIMEZONE:Europe/London
CALSCALE:GREGORIAN
METHOD:PUBLISH
CLASS:PUBLIC
BEGIN:VTIMEZONE
TZID:Europe/London
LAST-MODIFIED:20260306T231828Z
TZURL:https://www.tzurl.org/zoneinfo-outlook/Europe/London
X-LIC-LOCATION:Europe/London
BEGIN:DAYLIGHT
TZNAME:BST
TZOFFSETFROM:+0000
TZOFFSETTO:+0100
DTSTART:19700329T010000
RRULE:FREQ=YEARLY;BYMONTH=3;BYDAY=-1SU
END:DAYLIGHT
BEGIN:STANDARD
TZNAME:GMT
TZOFFSETFROM:+0100
TZOFFSETTO:+0000
DTSTART:19701025T020000
RRULE:FREQ=YEARLY;BYMONTH=10;BYDAY=-1SU
END:STANDARD
END:VTIMEZONE
BEGIN:VEVENT
DTSTART;TZID=Europe/London:20241011T140000
DTEND;TZID=Europe/London:20241011T160000
DTSTAMP:20260420T101501Z
UID:{419134E4-F4FB-490C-8D9F641F8A471D13}
LOCATION:IOL Online
SUMMARY:LPIOL Meeting - online
DESCRIPTION:Open to LPIOL and FIOL holders and aspirant LPIOLs\n
 To book please email to the email address in the details.\n
 \n
 Event details: https://www.outdoor-learning.org/news-events/ems-event-calendar/lpiol-meeting-online.html
PRIORITY:1
END:VEVENT
END:VCALENDAR