BEGIN:VCALENDAR
PRODID:-//Pixl8//Eventfolio//EN
VERSION:2.0
X-WR-TIMEZONE:Europe/London
CALSCALE:GREGORIAN
METHOD:PUBLISH
CLASS:PUBLIC
BEGIN:VTIMEZONE
TZID:Europe/London
LAST-MODIFIED:20260306T231828Z
TZURL:https://www.tzurl.org/zoneinfo-outlook/Europe/London
X-LIC-LOCATION:Europe/London
BEGIN:DAYLIGHT
TZNAME:BST
TZOFFSETFROM:+0000
TZOFFSETTO:+0100
DTSTART:19700329T010000
RRULE:FREQ=YEARLY;BYMONTH=3;BYDAY=-1SU
END:DAYLIGHT
BEGIN:STANDARD
TZNAME:GMT
TZOFFSETFROM:+0100
TZOFFSETTO:+0000
DTSTART:19701025T020000
RRULE:FREQ=YEARLY;BYMONTH=10;BYDAY=-1SU
END:STANDARD
END:VTIMEZONE
BEGIN:VEVENT
DTSTART;TZID=Europe/London:20241015T163000
DTEND;TZID=Europe/London:20241015T180000
DTSTAMP:20260425T180448Z
UID:{A14BD19D-56E6-4E35-B19D4DA8D2B274ED}
LOCATION:
SUMMARY:Low-stakes, High-interest Maths Learning Outdoors: the what, the why and the how
DESCRIPTION:This webinar leads us through the what, why and how of school-based outdoor maths\n
 \n
 Event details: https://www.outdoor-learning.org/news-events/ems-event-calendar/lowstakes-highinterestmaths-learning-outdoors.html
PRIORITY:1
END:VEVENT
END:VCALENDAR