BEGIN:VCALENDAR
PRODID:-//Pixl8//Eventfolio//EN
VERSION:2.0
X-WR-TIMEZONE:Europe/London
CALSCALE:GREGORIAN
METHOD:PUBLISH
CLASS:PUBLIC
BEGIN:VTIMEZONE
TZID:Europe/London
LAST-MODIFIED:20260306T231828Z
TZURL:https://www.tzurl.org/zoneinfo-outlook/Europe/London
X-LIC-LOCATION:Europe/London
BEGIN:DAYLIGHT
TZNAME:BST
TZOFFSETFROM:+0000
TZOFFSETTO:+0100
DTSTART:19700329T010000
RRULE:FREQ=YEARLY;BYMONTH=3;BYDAY=-1SU
END:DAYLIGHT
BEGIN:STANDARD
TZNAME:GMT
TZOFFSETFROM:+0100
TZOFFSETTO:+0000
DTSTART:19701025T020000
RRULE:FREQ=YEARLY;BYMONTH=10;BYDAY=-1SU
END:STANDARD
END:VTIMEZONE
BEGIN:VEVENT
DTSTART;TZID=Europe/London:20240415T093000
DTEND;TZID=Europe/London:20240415T153000
DTSTAMP:20260422T005345Z
UID:{609A73B4-0639-47E6-A2FF361A35573C2D}
LOCATION:Thorpe Woodlands Adventure Centre\, Thetford\, Norfolk
SUMMARY:IOL EAST Outdoor Learning CPD Day 
DESCRIPTION:Bringing together outdoor learning providers in the East. £10 for everyone. incl lunch.\n
 \n
 Event details: https://www.outdoor-learning.org/news-events/ems-event-calendar/iol-east-outdoor-learning-cpd-day.html
PRIORITY:1
END:VEVENT
END:VCALENDAR