BEGIN:VCALENDAR
PRODID:-//Pixl8//Eventfolio//EN
VERSION:2.0
X-WR-TIMEZONE:Europe/London
CALSCALE:GREGORIAN
METHOD:PUBLISH
CLASS:PUBLIC
BEGIN:VTIMEZONE
TZID:Europe/London
LAST-MODIFIED:20260306T231828Z
TZURL:https://www.tzurl.org/zoneinfo-outlook/Europe/London
X-LIC-LOCATION:Europe/London
BEGIN:DAYLIGHT
TZNAME:BST
TZOFFSETFROM:+0000
TZOFFSETTO:+0100
DTSTART:19700329T010000
RRULE:FREQ=YEARLY;BYMONTH=3;BYDAY=-1SU
END:DAYLIGHT
BEGIN:STANDARD
TZNAME:GMT
TZOFFSETFROM:+0100
TZOFFSETTO:+0000
DTSTART:19701025T020000
RRULE:FREQ=YEARLY;BYMONTH=10;BYDAY=-1SU
END:STANDARD
END:VTIMEZONE
BEGIN:VEVENT
DTSTART;TZID=Europe/London:20240916T160000
DTEND;TZID=Europe/London:20240916T170000
DTSTAMP:20260423T093437Z
UID:{342A43D4-2850-4D61-870D5893692B9C36}
LOCATION:
SUMMARY: IOL Alternative Provision sector specialist group gathering
DESCRIPTION:ONLINE. IOL Alternative Provision Launch Meeting. Open to the Public.\n
 \n
 Event details: https://www.outdoor-learning.org/news-events/ems-event-calendar/iol-alternative-provision-sector-specialist-group-gathering.html
PRIORITY:1
END:VEVENT
END:VCALENDAR