BEGIN:VCALENDAR
PRODID:-//Pixl8//Eventfolio//EN
VERSION:2.0
X-WR-TIMEZONE:Europe/London
CALSCALE:GREGORIAN
METHOD:PUBLISH
CLASS:PUBLIC
BEGIN:VTIMEZONE
TZID:Europe/London
LAST-MODIFIED:20260306T231828Z
TZURL:https://www.tzurl.org/zoneinfo-outlook/Europe/London
X-LIC-LOCATION:Europe/London
BEGIN:DAYLIGHT
TZNAME:BST
TZOFFSETFROM:+0000
TZOFFSETTO:+0100
DTSTART:19700329T010000
RRULE:FREQ=YEARLY;BYMONTH=3;BYDAY=-1SU
END:DAYLIGHT
BEGIN:STANDARD
TZNAME:GMT
TZOFFSETFROM:+0100
TZOFFSETTO:+0000
DTSTART:19701025T020000
RRULE:FREQ=YEARLY;BYMONTH=10;BYDAY=-1SU
END:STANDARD
END:VTIMEZONE
BEGIN:VEVENT
DTSTART;TZID=Europe/London:20240514T183000
DTEND;TZID=Europe/London:20240514T193000
DTSTAMP:20260424T054602Z
UID:{864F1EE0-920B-4BC3-A76FD5F77174CBFE}
LOCATION:IOL Online
SUMMARY:How do we achieve quality outcomes?
DESCRIPTION:This webinar explores the conditions that encourage the achievement of quality outcomes in outdoor learning programmes\n
 \n
 Event details: https://www.outdoor-learning.org/news-events/ems-event-calendar/how-do-we-achieve-quality-outcomes.html
PRIORITY:1
END:VEVENT
END:VCALENDAR